BEGIN:VCALENDAR
VERSION:2.0
PRODID:-//eventon.com NONSGML v1.0//EN
BEGIN:VEVENT
UID:69e73a85960c2
DTSTAMP:20260421T105117
DTSTART:20250222T080000Z
DTEND:20250222T100000Z
LOCATION:
SUMMARY:SPD Infostand
DESCRIPTION: Informiert Euch bei uns über das Wahlprogramm der SPD zur Bundestagswahl 2025
END:VEVENT
END:VCALENDAR