BEGIN:VCALENDAR
VERSION:2.0
PRODID:-//eventon.com NONSGML v1.0//EN
BEGIN:VEVENT
UID:69ed15a6a1361
DTSTAMP:20260425T212734
DTSTART:20250122T180000Z
DTEND:20250122T215000Z
LOCATION:
SUMMARY:offene Vorstandssitzung
DESCRIPTION: offene Vorstandssitzung im goldenen Anker
END:VEVENT
END:VCALENDAR