BEGIN:VCALENDAR
VERSION:2.0
PRODID:-//eventon.com NONSGML v1.0//EN
BEGIN:VEVENT
UID:69e74fc9b60a1
DTSTAMP:20260421T122201
DTSTART:20191130T140000Z
DTEND:20191130T160000Z
LOCATION:Eismannsberg Ortsmitte Eismannsberg
SUMMARY:Politischer Spaziergang in Eismannsberg
DESCRIPTION: Politischer Spaziergang in Eismannsberg
END:VEVENT
END:VCALENDAR